BEGIN:VCALENDAR
VERSION:2.0
PRODID:-//Markaut//Trade Fair Calendar//EN
CALSCALE:GREGORIAN
METHOD:PUBLISH
BEGIN:VEVENT
UID:greenbuild-expo-not-yet-determined-united-states-of-america@markaut.com
DTSTAMP:20260419T165729Z
DTSTART;VALUE=DATE:20261101
DTEND;VALUE=DATE:20261102
SUMMARY:Greenbuild Expo
LOCATION:noch offen/not yet determined, not yet determined, United States of America
DESCRIPTION:International Conference and Expo
URL:https://www.markaut.com/ja/fairs/greenbuild-expo-not-yet-determined-united-states-of-america/
END:VEVENT
END:VCALENDAR
