BEGIN:VCALENDAR
VERSION:2.0
PRODID:-//Markaut//Trade Fair Calendar//EN
CALSCALE:GREGORIAN
METHOD:PUBLISH
BEGIN:VEVENT
UID:fi-sa-food-ingredients-south-america-sao-paulo-brazil@markaut.com
DTSTAMP:20260422T113824Z
DTSTART;VALUE=DATE:20260422
DTEND;VALUE=DATE:20260423
SUMMARY:Fi SA - Food Ingredients South America
LOCATION:Transamerica Expo Center, Sao Paulo, Brazil
DESCRIPTION:International Exhibition on Food Ingredients, Product Development and Quality Control
URL:https://www.markaut.com/ja/fairs/fi-sa-food-ingredients-south-america-sao-paulo-brazil/
END:VEVENT
END:VCALENDAR
