BEGIN:VCALENDAR
VERSION:2.0
PRODID:-//Markaut//Trade Fair Calendar//EN
CALSCALE:GREGORIAN
METHOD:PUBLISH
BEGIN:VEVENT
UID:fastener-fair-india-not-yet-determined-india@markaut.com
DTSTAMP:20260424T153541Z
DTSTART;VALUE=DATE:20260701
DTEND;VALUE=DATE:20260702
SUMMARY:Fastener Fair India
LOCATION:noch offen/not yet determined, not yet determined, India
DESCRIPTION:Exhibition for Fastener & Fixing Technology
URL:https://www.markaut.com/ja/fairs/fastener-fair-india-not-yet-determined-india/
END:VEVENT
END:VCALENDAR
