BEGIN:VCALENDAR
VERSION:2.0
PRODID:-//Markaut//Trade Fair Calendar//EN
CALSCALE:GREGORIAN
METHOD:PUBLISH
BEGIN:VEVENT
UID:eurosafety-turvallisuus-tampere-finland@markaut.com
DTSTAMP:20260423T043008Z
DTSTART;VALUE=DATE:20260901
DTEND;VALUE=DATE:20260902
SUMMARY:EuroSafety - TURVALLISUUS
LOCATION:Tampere Exhibition and Sports Centre (Pirkkahalli), Tampere, Finland
DESCRIPTION:Safety and Security Exhibition
URL:https://www.markaut.com/ja/fairs/eurosafety-turvallisuus-tampere-finland/
END:VEVENT
END:VCALENDAR
