BEGIN:VCALENDAR
VERSION:2.0
PRODID:-//Markaut//Trade Fair Calendar//EN
CALSCALE:GREGORIAN
METHOD:PUBLISH
BEGIN:VEVENT
UID:bim-berufsinformationsmesse-salzburg-austria@markaut.com
DTSTAMP:20260423T235529Z
DTSTART;VALUE=DATE:20261101
DTEND;VALUE=DATE:20261102
SUMMARY:BIM - Berufsinformationsmesse
LOCATION:Messezentrum Salzburg, Salzburg, Austria
DESCRIPTION:
URL:https://www.markaut.com/ja/fairs/bim-berufsinformationsmesse-salzburg-austria/
END:VEVENT
END:VCALENDAR
