BEGIN:VCALENDAR
VERSION:2.0
PRODID:-//Markaut//Trade Fair Calendar//EN
CALSCALE:GREGORIAN
METHOD:PUBLISH
BEGIN:VEVENT
UID:bigtech-tunis-tunisia@markaut.com
DTSTAMP:20260421T214335Z
DTSTART;VALUE=DATE:20270601
DTEND;VALUE=DATE:20270602
SUMMARY:BIGTECH
LOCATION:Parc des Expositions et Centre de Commerce International de Tunis Le Kram, Tunis, Tunisia
DESCRIPTION:International exhibition on digital, sturtups and technology
URL:https://www.markaut.com/ja/fairs/bigtech-tunis-tunisia/
END:VEVENT
END:VCALENDAR
