BEGIN:VCALENDAR
VERSION:2.0
PRODID:-//Markaut//Trade Fair Calendar//EN
CALSCALE:GREGORIAN
METHOD:PUBLISH
BEGIN:VEVENT
UID:arbeitsschutz-aktuell-stuttgart-germany@markaut.com
DTSTAMP:20260420T060854Z
DTSTART;VALUE=DATE:20260420
DTEND;VALUE=DATE:20260421
SUMMARY:Arbeitsschutz Aktuell
LOCATION:Messe Stuttgart, Stuttgart, Germany
DESCRIPTION:Safety & Health - Congress & Trade Fair.
URL:https://www.markaut.com/ja/fairs/arbeitsschutz-aktuell-stuttgart-germany/
END:VEVENT
END:VCALENDAR
