BEGIN:VCALENDAR
VERSION:2.0
PRODID:-//Markaut//Trade Fair Calendar//EN
CALSCALE:GREGORIAN
METHOD:PUBLISH
BEGIN:VEVENT
UID:anuga-select-brazil-sao-paulo-brazil@markaut.com
DTSTAMP:20260420T075455Z
DTSTART;VALUE=DATE:20260420
DTEND;VALUE=DATE:20260421
SUMMARY:Anuga Select Brazil
LOCATION:Distrito Anhembi, Sao Paulo, Brazil
DESCRIPTION:The Energy of Brazil, the Power of the Global Market
URL:https://www.markaut.com/ja/fairs/anuga-select-brazil-sao-paulo-brazil/
END:VEVENT
END:VCALENDAR
