BEGIN:VCALENDAR
VERSION:2.0
PRODID:-//Markaut//Trade Fair Calendar//EN
CALSCALE:GREGORIAN
METHOD:PUBLISH
BEGIN:VEVENT
UID:skydd-protection-security-expo-stockholm-sweden@markaut.com
DTSTAMP:20260422T221806Z
DTSTART;VALUE=DATE:20261001
DTEND;VALUE=DATE:20261002
SUMMARY:SKYDD - PROTECTION & SECURITY EXPO
LOCATION:Stockholmsmässan, Stockholm, Sweden
DESCRIPTION:International Security, Safety & Fire Exhibition
URL:https://www.markaut.com/it/fairs/skydd-protection-security-expo-stockholm-sweden/
END:VEVENT
END:VCALENDAR
