BEGIN:VCALENDAR
VERSION:2.0
PRODID:-//Markaut//Trade Fair Calendar//EN
CALSCALE:GREGORIAN
METHOD:PUBLISH
BEGIN:VEVENT
UID:provada-amsterdam-netherlands@markaut.com
DTSTAMP:20260422T014929Z
DTSTART;VALUE=DATE:20260601
DTEND;VALUE=DATE:20260602
SUMMARY:PROVADA
LOCATION:Amsterdam RAI, Amsterdam, Netherlands
DESCRIPTION:The Real Estate Meeting Point
URL:https://www.markaut.com/it/fairs/provada-amsterdam-netherlands/
END:VEVENT
END:VCALENDAR
