BEGIN:VCALENDAR
VERSION:2.0
PRODID:-//Markaut//Trade Fair Calendar//EN
CALSCALE:GREGORIAN
METHOD:PUBLISH
BEGIN:VEVENT
UID:ns-notes-shanghai-shanghai-china-peoples-republic@markaut.com
DTSTAMP:20260419T175454Z
DTSTART;VALUE=DATE:20260419
DTEND;VALUE=DATE:20260420
SUMMARY:NS - Notes Shanghai
LOCATION:West Bund Convention Center, Shanghai, China, People\'s Republic
DESCRIPTION:International exhibition for the fragrance industry
URL:https://www.markaut.com/it/fairs/ns-notes-shanghai-shanghai-china-peoples-republic/
END:VEVENT
END:VCALENDAR
