BEGIN:VCALENDAR
VERSION:2.0
PRODID:-//Markaut//Trade Fair Calendar//EN
CALSCALE:GREGORIAN
METHOD:PUBLISH
BEGIN:VEVENT
UID:nls-days-stockholm-sweden@markaut.com
DTSTAMP:20260424T111749Z
DTSTART;VALUE=DATE:20260424
DTEND;VALUE=DATE:20260425
SUMMARY:NLS Days
LOCATION:Kistamässan, Stockholm, Sweden
DESCRIPTION:Nordic Life Science Days
URL:https://www.markaut.com/it/fairs/nls-days-stockholm-sweden/
END:VEVENT
END:VCALENDAR
