BEGIN:VCALENDAR
VERSION:2.0
PRODID:-//Markaut//Trade Fair Calendar//EN
CALSCALE:GREGORIAN
METHOD:PUBLISH
BEGIN:VEVENT
UID:motorbeurs-utrecht-netherlands@markaut.com
DTSTAMP:20260424T184931Z
DTSTART;VALUE=DATE:20260424
DTEND;VALUE=DATE:20260425
SUMMARY:MOTORbeurs
LOCATION:Royal Dutch Jaarbeurs Exhibition & Convention Centre, Utrecht, Netherlands
DESCRIPTION:Motorcycle and Accessories Exhibition
URL:https://www.markaut.com/it/fairs/motorbeurs-utrecht-netherlands/
END:VEVENT
END:VCALENDAR
