BEGIN:VCALENDAR
VERSION:2.0
PRODID:-//Markaut//Trade Fair Calendar//EN
CALSCALE:GREGORIAN
METHOD:PUBLISH
BEGIN:VEVENT
UID:hamvention-xenia-united-states-of-america@markaut.com
DTSTAMP:20260419T123538Z
DTSTART;VALUE=DATE:20260501
DTEND;VALUE=DATE:20260502
SUMMARY:Hamvention
LOCATION:Greene County Fairgrounds & Expo Center, Xenia, United States of America
DESCRIPTION:Amateur Radio Gathering & Exhibition
URL:https://www.markaut.com/it/fairs/hamvention-xenia-united-states-of-america/
END:VEVENT
END:VCALENDAR
