BEGIN:VCALENDAR
VERSION:2.0
PRODID:-//Markaut//Trade Fair Calendar//EN
CALSCALE:GREGORIAN
METHOD:PUBLISH
BEGIN:VEVENT
UID:guangzhou-international-lighting-exhibition-gile-guangzhou-china-peoples-republic@markaut.com
DTSTAMP:20260419T155816Z
DTSTART;VALUE=DATE:20260419
DTEND;VALUE=DATE:20260420
SUMMARY:Guangzhou International Lighting Exhibition (GILE)
LOCATION:Canton Fair Complex, Pazhou (China Import & Export Fair Complex), Guangzhou, China, People\'s Republic
DESCRIPTION:The most influential and comprehensive lighting and LED event in Asia
URL:https://www.markaut.com/it/fairs/guangzhou-international-lighting-exhibition-gile-guangzhou-china-peoples-republic/
END:VEVENT
END:VCALENDAR
