BEGIN:VCALENDAR
VERSION:2.0
PRODID:-//Markaut//Trade Fair Calendar//EN
CALSCALE:GREGORIAN
METHOD:PUBLISH
BEGIN:VEVENT
UID:didac-india-didac-skills-bangalore-india@markaut.com
DTSTAMP:20260423T181811Z
DTSTART;VALUE=DATE:20260423
DTEND;VALUE=DATE:20260424
SUMMARY:DIDAC INDIA & DIDAC SKILLS
LOCATION:BIEC Bangalore International Exhibition Centre, Bangalore, India
DESCRIPTION:International Exhibition & Conference for the Education and Skills Sector
URL:https://www.markaut.com/it/fairs/didac-india-didac-skills-bangalore-india/
END:VEVENT
END:VCALENDAR
