BEGIN:VCALENDAR
VERSION:2.0
PRODID:-//Markaut//Trade Fair Calendar//EN
CALSCALE:GREGORIAN
METHOD:PUBLISH
BEGIN:VEVENT
UID:british-pig-and-poultry-fair-birmingham-united-kingdom-of-great-britain-and-northern-ireland@markaut.com
DTSTAMP:20260420T064534Z
DTSTART;VALUE=DATE:20260420
DTEND;VALUE=DATE:20260421
SUMMARY:British Pig and Poultry Fair
LOCATION:National Exhibition Centre (The NEC), Birmingham, United Kingdom of Great Britain and Northern Ireland
DESCRIPTION:
URL:https://www.markaut.com/it/fairs/british-pig-and-poultry-fair-birmingham-united-kingdom-of-great-britain-and-northern-ireland/
END:VEVENT
END:VCALENDAR
