BEGIN:VCALENDAR
VERSION:2.0
PRODID:-//Markaut//Trade Fair Calendar//EN
CALSCALE:GREGORIAN
METHOD:PUBLISH
BEGIN:VEVENT
UID:aula-madrid-spain@markaut.com
DTSTAMP:20260419T152035Z
DTSTART;VALUE=DATE:20260419
DTEND;VALUE=DATE:20260420
SUMMARY:AULA
LOCATION:IFEMA Feria de Madrid, Madrid, Spain
DESCRIPTION:International Student Exhibition and educational offer
URL:https://www.markaut.com/it/fairs/aula-madrid-spain/
END:VEVENT
END:VCALENDAR
