BEGIN:VCALENDAR
VERSION:2.0
PRODID:-//Markaut//Trade Fair Calendar//EN
CALSCALE:GREGORIAN
METHOD:PUBLISH
BEGIN:VEVENT
UID:wms-mississauga-toronto-canada@markaut.com
DTSTAMP:20260424T181442Z
DTSTART;VALUE=DATE:20271101
DTEND;VALUE=DATE:20271102
SUMMARY:WMS
LOCATION:The International Centre, Mississauga/ Toronto, Canada
DESCRIPTION:Woodworking Machinery and Supply Expo
URL:https://www.markaut.com/id/fairs/wms-mississauga-toronto-canada/
END:VEVENT
END:VCALENDAR
