BEGIN:VCALENDAR
VERSION:2.0
PRODID:-//Markaut//Trade Fair Calendar//EN
CALSCALE:GREGORIAN
METHOD:PUBLISH
BEGIN:VEVENT
UID:whms-wuhan-motor-show-wuhan-china-peoples-republic@markaut.com
DTSTAMP:20260419T232425Z
DTSTART;VALUE=DATE:20271001
DTEND;VALUE=DATE:20271002
SUMMARY:WHMS - Wuhan Motor Show
LOCATION:Wuhan International Expo Center, Wuhan, China, People\'s Republic
DESCRIPTION:Wuhan Motor Show
URL:https://www.markaut.com/id/fairs/whms-wuhan-motor-show-wuhan-china-peoples-republic/
END:VEVENT
END:VCALENDAR
