BEGIN:VCALENDAR
VERSION:2.0
PRODID:-//Markaut//Trade Fair Calendar//EN
CALSCALE:GREGORIAN
METHOD:PUBLISH
BEGIN:VEVENT
UID:uzbuild-tashkent-ehem-worldbuild-tashkent-uzbekistan@markaut.com
DTSTAMP:20260419T151412Z
DTSTART;VALUE=DATE:20260419
DTEND;VALUE=DATE:20260420
SUMMARY:UzBuild Tashkent (ehem. WorldBuild)
LOCATION:UEC UzExpoCentre, Tashkent, Uzbekistan
DESCRIPTION:International Exhibtion Building and Construction, Interiors
URL:https://www.markaut.com/id/fairs/uzbuild-tashkent-ehem-worldbuild-tashkent-uzbekistan/
END:VEVENT
END:VCALENDAR
