BEGIN:VCALENDAR
VERSION:2.0
PRODID:-//Markaut//Trade Fair Calendar//EN
CALSCALE:GREGORIAN
METHOD:PUBLISH
BEGIN:VEVENT
UID:siif-seoul-korea-republic@markaut.com
DTSTAMP:20260419T120819Z
DTSTART;VALUE=DATE:20261101
DTEND;VALUE=DATE:20261102
SUMMARY:SIIF
LOCATION:COEX Convention & Exhibition Center, Seoul, Korea, Republic
DESCRIPTION:Seoul International Invention Fair
URL:https://www.markaut.com/id/fairs/siif-seoul-korea-republic/
END:VEVENT
END:VCALENDAR
