BEGIN:VCALENDAR
VERSION:2.0
PRODID:-//Markaut//Trade Fair Calendar//EN
CALSCALE:GREGORIAN
METHOD:PUBLISH
BEGIN:VEVENT
UID:sibos-miami-beach-united-states-of-america@markaut.com
DTSTAMP:20260421T222941Z
DTSTART;VALUE=DATE:20260422
DTEND;VALUE=DATE:20260423
SUMMARY:SIBOS
LOCATION:Miami Beach Convention Center, Miami Beach, United States of America
DESCRIPTION:International Exhibition and Conference on Financial Services
URL:https://www.markaut.com/id/fairs/sibos-miami-beach-united-states-of-america/
END:VEVENT
END:VCALENDAR
