BEGIN:VCALENDAR
VERSION:2.0
PRODID:-//Markaut//Trade Fair Calendar//EN
CALSCALE:GREGORIAN
METHOD:PUBLISH
BEGIN:VEVENT
UID:seoul-food-hotel-goyang-seoul-korea-republic@markaut.com
DTSTAMP:20260421T172210Z
DTSTART;VALUE=DATE:20270601
DTEND;VALUE=DATE:20270602
SUMMARY:SEOUL FOOD & HOTEL
LOCATION:KINTEX Korea International Exhibition Center, Goyang/Seoul, Korea, Republic
DESCRIPTION:The International Food Industry Exhibition
URL:https://www.markaut.com/id/fairs/seoul-food-hotel-goyang-seoul-korea-republic/
END:VEVENT
END:VCALENDAR
