BEGIN:VCALENDAR
VERSION:2.0
PRODID:-//Markaut//Trade Fair Calendar//EN
CALSCALE:GREGORIAN
METHOD:PUBLISH
BEGIN:VEVENT
UID:plastteknik-nordic-malmoe-sweden@markaut.com
DTSTAMP:20260422T195858Z
DTSTART;VALUE=DATE:20260422
DTEND;VALUE=DATE:20260423
SUMMARY:Plastteknik Nordic
LOCATION:MalmöMässan, Malmoe, Sweden
DESCRIPTION:Nordic trade fair for the plastics and rubber industry
URL:https://www.markaut.com/id/fairs/plastteknik-nordic-malmoe-sweden/
END:VEVENT
END:VCALENDAR
