BEGIN:VCALENDAR
VERSION:2.0
PRODID:-//Markaut//Trade Fair Calendar//EN
CALSCALE:GREGORIAN
METHOD:PUBLISH
BEGIN:VEVENT
UID:pack-expo-within-iffip-kiev-ukraine@markaut.com
DTSTAMP:20260424T084213Z
DTSTART;VALUE=DATE:20260424
DTEND;VALUE=DATE:20260425
SUMMARY:Pack Expo - within IFFIP
LOCATION:IEC International Exhibition Centre, Kiev, Ukraine
DESCRIPTION:Specialized Exhibition for the Packaging Industry
URL:https://www.markaut.com/id/fairs/pack-expo-within-iffip-kiev-ukraine/
END:VEVENT
END:VCALENDAR
