BEGIN:VCALENDAR
VERSION:2.0
PRODID:-//Markaut//Trade Fair Calendar//EN
CALSCALE:GREGORIAN
METHOD:PUBLISH
BEGIN:VEVENT
UID:pack-expo-international-chicago-united-states-of-america@markaut.com
DTSTAMP:20260419T151816Z
DTSTART;VALUE=DATE:20260419
DTEND;VALUE=DATE:20260420
SUMMARY:PACK EXPO International
LOCATION:McCormick Place, Chicago, United States of America
DESCRIPTION:the World of Packaging Technology
URL:https://www.markaut.com/id/fairs/pack-expo-international-chicago-united-states-of-america/
END:VEVENT
END:VCALENDAR
