BEGIN:VCALENDAR
VERSION:2.0
PRODID:-//Markaut//Trade Fair Calendar//EN
CALSCALE:GREGORIAN
METHOD:PUBLISH
BEGIN:VEVENT
UID:nepal-buildcon-international-expo-kathmandu-nepal@markaut.com
DTSTAMP:20260419T151413Z
DTSTART;VALUE=DATE:20260419
DTEND;VALUE=DATE:20260420
SUMMARY:Nepal Buildcon International Expo
LOCATION:Bhrikuti Mandap, Kathmandu, Nepal
DESCRIPTION:
URL:https://www.markaut.com/id/fairs/nepal-buildcon-international-expo-kathmandu-nepal/
END:VEVENT
END:VCALENDAR
