BEGIN:VCALENDAR
VERSION:2.0
PRODID:-//Markaut//Trade Fair Calendar//EN
CALSCALE:GREGORIAN
METHOD:PUBLISH
BEGIN:VEVENT
UID:mobac-show-not-yet-determined-japan@markaut.com
DTSTAMP:20260420T045744Z
DTSTART;VALUE=DATE:20270201
DTEND;VALUE=DATE:20270202
SUMMARY:MOBAC SHOW
LOCATION:noch offen/not yet determined, not yet determined, Japan
DESCRIPTION:Machinery, Materials and Marketing of Bakery and Confectionery Show
URL:https://www.markaut.com/id/fairs/mobac-show-not-yet-determined-japan/
END:VEVENT
END:VCALENDAR
