BEGIN:VCALENDAR
VERSION:2.0
PRODID:-//Markaut//Trade Fair Calendar//EN
CALSCALE:GREGORIAN
METHOD:PUBLISH
BEGIN:VEVENT
UID:kolkatawood-calcutta-kolkata-india@markaut.com
DTSTAMP:20260424T144437Z
DTSTART;VALUE=DATE:20260424
DTEND;VALUE=DATE:20260425
SUMMARY:KOLKATAWOOD
LOCATION:Biswa Bangla Convention Centre, Calcutta (Kolkata), India
DESCRIPTION:International Trade Fair for Furniture Production Technologies, Woodworking Machinery, Mattress Manufacturing Solutions, Upholstery Supplies, Tools, Fittings, Accessories, Raw Materials, and Products
URL:https://www.markaut.com/id/fairs/kolkatawood-calcutta-kolkata-india/
END:VEVENT
END:VCALENDAR
