BEGIN:VCALENDAR
VERSION:2.0
PRODID:-//Markaut//Trade Fair Calendar//EN
CALSCALE:GREGORIAN
METHOD:PUBLISH
BEGIN:VEVENT
UID:innoprom-central-asia-tashkent-uzbekistan@markaut.com
DTSTAMP:20260419T150911Z
DTSTART;VALUE=DATE:20260420
DTEND;VALUE=DATE:20260423
SUMMARY:INNOPROM. Central Asia
LOCATION:UEC UzExpoCentre, Tashkent, Uzbekistan
DESCRIPTION:International Industrial Trade Fair
URL:https://www.markaut.com/id/fairs/innoprom-central-asia-tashkent-uzbekistan/
END:VEVENT
END:VCALENDAR
