BEGIN:VCALENDAR
VERSION:2.0
PRODID:-//Markaut//Trade Fair Calendar//EN
CALSCALE:GREGORIAN
METHOD:PUBLISH
BEGIN:VEVENT
UID:ina-paace-automechanika-mexico-city-mexico-city-mexico@markaut.com
DTSTAMP:20260420T031044Z
DTSTART;VALUE=DATE:20260420
DTEND;VALUE=DATE:20260421
SUMMARY:INA PAACE Automechanika Mexico City
LOCATION:Centro Citibanamex, Mexico City, Mexico
DESCRIPTION:Mexico\'s Leading International Trade Fair for the Automotive Service Industry targeting Trade Visitors from Latin and Central America
URL:https://www.markaut.com/id/fairs/ina-paace-automechanika-mexico-city-mexico-city-mexico/
END:VEVENT
END:VCALENDAR
