BEGIN:VCALENDAR
VERSION:2.0
PRODID:-//Markaut//Trade Fair Calendar//EN
CALSCALE:GREGORIAN
METHOD:PUBLISH
BEGIN:VEVENT
UID:idea-miami-beach-united-states-of-america@markaut.com
DTSTAMP:20260421T171925Z
DTSTART;VALUE=DATE:20280401
DTEND;VALUE=DATE:20280402
SUMMARY:IDEA
LOCATION:Miami Beach Convention Center, Miami Beach, United States of America
DESCRIPTION:International Engineered Fabrics Conference & Expo
URL:https://www.markaut.com/id/fairs/idea-miami-beach-united-states-of-america/
END:VEVENT
END:VCALENDAR
