BEGIN:VCALENDAR
VERSION:2.0
PRODID:-//Markaut//Trade Fair Calendar//EN
CALSCALE:GREGORIAN
METHOD:PUBLISH
BEGIN:VEVENT
UID:expo-pesca-acuiperu-lima-peru@markaut.com
DTSTAMP:20260419T201554Z
DTSTART;VALUE=DATE:20271101
DTEND;VALUE=DATE:20271102
SUMMARY:EXPO PESCA & ACUIPERU
LOCATION:Centro de Convenciones Jockey Plaza, Lima, Peru
DESCRIPTION:Equipment for Fisheries & Aquaculture including Boats & Parts, Refrigeration, Processing, Hatchery Exhibition
URL:https://www.markaut.com/id/fairs/expo-pesca-acuiperu-lima-peru/
END:VEVENT
END:VCALENDAR
