BEGIN:VCALENDAR
VERSION:2.0
PRODID:-//Markaut//Trade Fair Calendar//EN
CALSCALE:GREGORIAN
METHOD:PUBLISH
BEGIN:VEVENT
UID:evs-39-not-yet-determined-not-yet-determined@markaut.com
DTSTAMP:20260420T030330Z
DTSTART;VALUE=DATE:20260601
DTEND;VALUE=DATE:20260602
SUMMARY:EVS 39
LOCATION:noch offen/not yet determined, not yet determined, not yet determined
DESCRIPTION:Electric Vehicle Symposium & Exhibition
URL:https://www.markaut.com/id/fairs/evs-39-not-yet-determined-not-yet-determined/
END:VEVENT
END:VCALENDAR
