BEGIN:VCALENDAR
VERSION:2.0
PRODID:-//Markaut//Trade Fair Calendar//EN
CALSCALE:GREGORIAN
METHOD:PUBLISH
BEGIN:VEVENT
UID:coatings-for-africa-johannesburg-south-africa@markaut.com
DTSTAMP:20260419T151810Z
DTSTART;VALUE=DATE:20280501
DTEND;VALUE=DATE:20280502
SUMMARY:Coatings for Africa
LOCATION:Sandton Convention Centre, Johannesburg, South Africa
DESCRIPTION:The Southern Africa Coatings Show
URL:https://www.markaut.com/id/fairs/coatings-for-africa-johannesburg-south-africa/
END:VEVENT
END:VCALENDAR
