BEGIN:VCALENDAR
VERSION:2.0
PRODID:-//Markaut//Trade Fair Calendar//EN
CALSCALE:GREGORIAN
METHOD:PUBLISH
BEGIN:VEVENT
UID:catarina-aviation-show-sao-paulo-brazil@markaut.com
DTSTAMP:20260419T150541Z
DTSTART;VALUE=DATE:20260419
DTEND;VALUE=DATE:20260420
SUMMARY:Catarina Aviation Show
LOCATION:São Paulo Catarina Executive International Airport, Sao Paulo, Brazil
DESCRIPTION:
URL:https://www.markaut.com/id/fairs/catarina-aviation-show-sao-paulo-brazil/
END:VEVENT
END:VCALENDAR
