BEGIN:VCALENDAR
VERSION:2.0
PRODID:-//Markaut//Trade Fair Calendar//EN
CALSCALE:GREGORIAN
METHOD:PUBLISH
BEGIN:VEVENT
UID:carbon-korea-seoul-korea-republic@markaut.com
DTSTAMP:20260419T132102Z
DTSTART;VALUE=DATE:20260419
DTEND;VALUE=DATE:20260420
SUMMARY:CARBON KOREA
LOCATION:COEX Convention & Exhibition Center, Seoul, Korea, Republic
DESCRIPTION:
URL:https://www.markaut.com/id/fairs/carbon-korea-seoul-korea-republic/
END:VEVENT
END:VCALENDAR
