BEGIN:VCALENDAR
VERSION:2.0
PRODID:-//Markaut//Trade Fair Calendar//EN
CALSCALE:GREGORIAN
METHOD:PUBLISH
BEGIN:VEVENT
UID:biam-zagreb-croatia@markaut.com
DTSTAMP:20260419T131805Z
DTSTART;VALUE=DATE:20260419
DTEND;VALUE=DATE:20260420
SUMMARY:BIAM
LOCATION:Zagreb Fair, Zagreb, Croatia
DESCRIPTION:International Machine Tools and Tool Fair
URL:https://www.markaut.com/id/fairs/biam-zagreb-croatia/
END:VEVENT
END:VCALENDAR
