BEGIN:VCALENDAR
VERSION:2.0
PRODID:-//Markaut//Trade Fair Calendar//EN
CALSCALE:GREGORIAN
METHOD:PUBLISH
BEGIN:VEVENT
UID:automotive-manufacturing-part-of-manufacturing-expo-bangkok-thailand@markaut.com
DTSTAMP:20260419T151912Z
DTSTART;VALUE=DATE:20260419
DTEND;VALUE=DATE:20260420
SUMMARY:Automotive Manufacturing (Part of Manufacturing Expo)
LOCATION:BITEC Bangkok International Trade & Exhibition Centre, Bangkok, Thailand
DESCRIPTION:ASEAN\'s Most Comprehensive Exhibition on Automotive Parts Manufacturing Technology
URL:https://www.markaut.com/id/fairs/automotive-manufacturing-part-of-manufacturing-expo-bangkok-thailand/
END:VEVENT
END:VCALENDAR
