BEGIN:VCALENDAR
VERSION:2.0
PRODID:-//Markaut//Trade Fair Calendar//EN
CALSCALE:GREGORIAN
METHOD:PUBLISH
BEGIN:VEVENT
UID:aquarama-trade-fair-leuven-belgium@markaut.com
DTSTAMP:20260420T013749Z
DTSTART;VALUE=DATE:20261001
DTEND;VALUE=DATE:20261002
SUMMARY:Aquarama Trade Fair
LOCATION:Brabanthal, Leuven, Belgium
DESCRIPTION:for water technology
URL:https://www.markaut.com/id/fairs/aquarama-trade-fair-leuven-belgium/
END:VEVENT
END:VCALENDAR
