BEGIN:VCALENDAR
VERSION:2.0
PRODID:-//Markaut//Trade Fair Calendar//EN
CALSCALE:GREGORIAN
METHOD:PUBLISH
BEGIN:VEVENT
UID:worlddidac-asia-hangzhou-china-peoples-republic@markaut.com
DTSTAMP:20260423T192714Z
DTSTART;VALUE=DATE:20260423
DTEND;VALUE=DATE:20260424
SUMMARY:Worlddidac Asia
LOCATION:Hangzhou Grand Convention & Exhibition Center, Hangzhou, China, People\'s Republic
DESCRIPTION:International Exhibition & Conference for Educational Resources, Technology, and Skills Development
URL:https://www.markaut.com/hi/fairs/worlddidac-asia-hangzhou-china-peoples-republic/
END:VEVENT
END:VCALENDAR
