BEGIN:VCALENDAR
VERSION:2.0
PRODID:-//Markaut//Trade Fair Calendar//EN
CALSCALE:GREGORIAN
METHOD:PUBLISH
BEGIN:VEVENT
UID:vakantiebeurs-utrecht-netherlands@markaut.com
DTSTAMP:20260424T160506Z
DTSTART;VALUE=DATE:20260424
DTEND;VALUE=DATE:20260425
SUMMARY:VAKANTIEBEURS
LOCATION:Royal Dutch Jaarbeurs Exhibition & Convention Centre, Utrecht, Netherlands
DESCRIPTION:Tourism and Recreation Fair
URL:https://www.markaut.com/hi/fairs/vakantiebeurs-utrecht-netherlands/
END:VEVENT
END:VCALENDAR
