BEGIN:VCALENDAR
VERSION:2.0
PRODID:-//Markaut//Trade Fair Calendar//EN
CALSCALE:GREGORIAN
METHOD:PUBLISH
BEGIN:VEVENT
UID:tempo-libero-freizeit-bolzano-italy@markaut.com
DTSTAMP:20260423T190118Z
DTSTART;VALUE=DATE:20260423
DTEND;VALUE=DATE:20260424
SUMMARY:TEMPO LIBERO / FREIZEIT
LOCATION:Fiera Bolzano/ Messe Bozen, Bolzano, Italy
DESCRIPTION:Holidays, Camping, Food, Sports and Garden
URL:https://www.markaut.com/hi/fairs/tempo-libero-freizeit-bolzano-italy/
END:VEVENT
END:VCALENDAR
