BEGIN:VCALENDAR
VERSION:2.0
PRODID:-//Markaut//Trade Fair Calendar//EN
CALSCALE:GREGORIAN
METHOD:PUBLISH
BEGIN:VEVENT
UID:taipei-cycle-taipei-taiwan@markaut.com
DTSTAMP:20260424T160552Z
DTSTART;VALUE=DATE:20260424
DTEND;VALUE=DATE:20260425
SUMMARY:TAIPEI CYCLE
LOCATION:TWTC Nangang, Taipei, Taiwan
DESCRIPTION:Taipei International Cycle Show
URL:https://www.markaut.com/hi/fairs/taipei-cycle-taipei-taiwan/
END:VEVENT
END:VCALENDAR
