BEGIN:VCALENDAR
VERSION:2.0
PRODID:-//Markaut//Trade Fair Calendar//EN
CALSCALE:GREGORIAN
METHOD:PUBLISH
BEGIN:VEVENT
UID:intercharm-professional-moscow-russia@markaut.com
DTSTAMP:20260419T195306Z
DTSTART;VALUE=DATE:20261014
DTEND;VALUE=DATE:20261018
SUMMARY:INTERCHARM professional
LOCATION:Crocus Expo International Exhibition Centre, Moscow, Russia
DESCRIPTION:Internationalexhibition of professional cosmetics and equipment for beauty salons
URL:https://www.markaut.com/hi/fairs/intercharm-professional-moscow-russia/
END:VEVENT
END:VCALENDAR
