BEGIN:VCALENDAR
VERSION:2.0
PRODID:-//Markaut//Trade Fair Calendar//EN
CALSCALE:GREGORIAN
METHOD:PUBLISH
BEGIN:VEVENT
UID:india-mattresstech-expo-upholstery-supplies-not-yet-determined-india@markaut.com
DTSTAMP:20260424T223733Z
DTSTART;VALUE=DATE:20270201
DTEND;VALUE=DATE:20270202
SUMMARY:INDIA mattresstech expo + upholstery supplies
LOCATION:noch offen/not yet determined, not yet determined, India
DESCRIPTION:International Fair for Mattress and Upholstery Production Technology, Machinery & Supplies
URL:https://www.markaut.com/hi/fairs/india-mattresstech-expo-upholstery-supplies-not-yet-determined-india/
END:VEVENT
END:VCALENDAR
