BEGIN:VCALENDAR
VERSION:2.0
PRODID:-//Markaut//Trade Fair Calendar//EN
CALSCALE:GREGORIAN
METHOD:PUBLISH
BEGIN:VEVENT
UID:imex-america-las-vegas-united-states-of-america@markaut.com
DTSTAMP:20260421T102921Z
DTSTART;VALUE=DATE:20260421
DTEND;VALUE=DATE:20260422
SUMMARY:IMEX America
LOCATION:Mandalay Bay Convention Center, Las Vegas, United States of America
DESCRIPTION:America\'s worldwide Exhibition for Incentive Travel, Meetings and Events
URL:https://www.markaut.com/hi/fairs/imex-america-las-vegas-united-states-of-america/
END:VEVENT
END:VCALENDAR
