BEGIN:VCALENDAR
VERSION:2.0
PRODID:-//Markaut//Trade Fair Calendar//EN
CALSCALE:GREGORIAN
METHOD:PUBLISH
BEGIN:VEVENT
UID:guangzhou-electrical-building-technology-gebt-guangzhou-china-peoples-republic@markaut.com
DTSTAMP:20260422T061055Z
DTSTART;VALUE=DATE:20260422
DTEND;VALUE=DATE:20260423
SUMMARY:Guangzhou Electrical Building Technology (GEBT)
LOCATION:Canton Fair Complex, Pazhou (China Import & Export Fair Complex), Guangzhou, China, People\'s Republic
DESCRIPTION:Asia\'s premier platform for the electrical engineering, building and home automation markets
URL:https://www.markaut.com/hi/fairs/guangzhou-electrical-building-technology-gebt-guangzhou-china-peoples-republic/
END:VEVENT
END:VCALENDAR
