BEGIN:VCALENDAR
VERSION:2.0
PRODID:-//Markaut//Trade Fair Calendar//EN
CALSCALE:GREGORIAN
METHOD:PUBLISH
BEGIN:VEVENT
UID:global-produce-floral-show-formerly-pma-fresh-summit-not-yet-determined-united-states-of-america@markaut.com
DTSTAMP:20260419T133431Z
DTSTART;VALUE=DATE:20271001
DTEND;VALUE=DATE:20271002
SUMMARY:Global Produce & Floral Show (formerly PMA Fresh Summit)
LOCATION:noch offen/not yet determined, not yet determined, United States of America
DESCRIPTION:
URL:https://www.markaut.com/hi/fairs/global-produce-floral-show-formerly-pma-fresh-summit-not-yet-determined-united-states-of-america/
END:VEVENT
END:VCALENDAR
